BEGIN:VCALENDAR
VERSION:2.0
PRODID:-//Cumberland County - ECPv5.1.4//NONSGML v1.0//EN
CALSCALE:GREGORIAN
METHOD:PUBLISH
X-WR-CALNAME:Cumberland County
X-ORIGINAL-URL:https://cumberlandcoil.gov
X-WR-CALDESC:Events for Cumberland County
BEGIN:VTIMEZONE
TZID:America/Chicago
BEGIN:DAYLIGHT
TZOFFSETFROM:-0600
TZOFFSETTO:-0500
TZNAME:CDT
DTSTART:20170312T080000
END:DAYLIGHT
BEGIN:STANDARD
TZOFFSETFROM:-0500
TZOFFSETTO:-0600
TZNAME:CST
DTSTART:20171105T070000
END:STANDARD
END:VTIMEZONE
BEGIN:VEVENT
DTSTART;TZID=America/Chicago:20171204T120000
DTEND;TZID=America/Chicago:20171204T130000
DTSTAMP:20260422T072659
CREATED:20171122T134358Z
LAST-MODIFIED:20171122T134358Z
UID:736-1512388800-1512392400@cumberlandcoil.gov
SUMMARY:Bicentennial Flag Raising
DESCRIPTION:Residents of Cumberland County: \n  \nYou are invited to attend the Illinois Bicentennial Flag raising on the Court House lawn on Monday\, December 4\, 2017\, at Noon. This is the kickoff to a year of celebrating. On December 3\, 2018\, Illinois will  celebrate its 200th birthday of becoming a state in the union. \n  \nPlease join the County Officials in this Flag raising event! \n  \nFloyd Holkenbrink \nCumberland County Board Chairman 
URL:https://cumberlandcoil.gov/event/bicentennial-flag-raising/
LOCATION:Cumberland County Annex Building\, 140 Courthouse Sq\, Toledo\, IL\, 62468\, United States
END:VEVENT
END:VCALENDAR