BEGIN:VCALENDAR
VERSION:2.0
PRODID:-//Cumberland County - ECPv5.1.4//NONSGML v1.0//EN
CALSCALE:GREGORIAN
METHOD:PUBLISH
X-WR-CALNAME:Cumberland County
X-ORIGINAL-URL:https://cumberlandcoil.gov
X-WR-CALDESC:Events for Cumberland County
BEGIN:VTIMEZONE
TZID:America/Chicago
BEGIN:DAYLIGHT
TZOFFSETFROM:-0600
TZOFFSETTO:-0500
TZNAME:CDT
DTSTART:20170312T080000
END:DAYLIGHT
BEGIN:STANDARD
TZOFFSETFROM:-0500
TZOFFSETTO:-0600
TZNAME:CST
DTSTART:20171105T070000
END:STANDARD
END:VTIMEZONE
BEGIN:VEVENT
DTSTART;TZID=America/Chicago:20171213T180000
DTEND;TZID=America/Chicago:20171213T200000
DTSTAMP:20260422T041605
CREATED:20180108T170757Z
LAST-MODIFIED:20180108T170757Z
UID:1950-1513188000-1513195200@cumberlandcoil.gov
SUMMARY:Board Meeting 12-13-17
DESCRIPTION:Agenda 
URL:https://cumberlandcoil.gov/event/board-meeting-12-13-17-2/
LOCATION:Cumberland County Annex Building\, 140 Courthouse Sq\, Toledo\, IL\, 62468\, United States
CATEGORIES:Board-Agendas-Meetings
END:VEVENT
END:VCALENDAR