BEGIN:VCALENDAR
VERSION:2.0
PRODID:-//Cumberland County - ECPv5.1.4//NONSGML v1.0//EN
CALSCALE:GREGORIAN
METHOD:PUBLISH
X-WR-CALNAME:Cumberland County
X-ORIGINAL-URL:https://cumberlandcoil.gov
X-WR-CALDESC:Events for Cumberland County
BEGIN:VTIMEZONE
TZID:America/Chicago
BEGIN:DAYLIGHT
TZOFFSETFROM:-0600
TZOFFSETTO:-0500
TZNAME:CDT
DTSTART:20180311T080000
END:DAYLIGHT
BEGIN:STANDARD
TZOFFSETFROM:-0500
TZOFFSETTO:-0600
TZNAME:CST
DTSTART:20181104T070000
END:STANDARD
END:VTIMEZONE
BEGIN:VEVENT
DTSTART;VALUE=DATE:20180212
DTEND;VALUE=DATE:20180213
DTSTAMP:20260422T072829
CREATED:20180108T220730Z
LAST-MODIFIED:20180108T220730Z
UID:806-1518393600-1518479999@cumberlandcoil.gov
SUMMARY:Lincoln's Birthday
DESCRIPTION:Office Closed 
URL:https://cumberlandcoil.gov/event/lincolns-birthday/
LOCATION:Cumberland County Annex Building\, 140 Courthouse Sq\, Toledo\, IL\, 62468\, United States
CATEGORIES:Office Hours
END:VEVENT
END:VCALENDAR