BEGIN:VCALENDAR
VERSION:2.0
PRODID:-//Cumberland County - ECPv5.1.4//NONSGML v1.0//EN
CALSCALE:GREGORIAN
METHOD:PUBLISH
X-WR-CALNAME:Cumberland County
X-ORIGINAL-URL:https://cumberlandcoil.gov
X-WR-CALDESC:Events for Cumberland County
BEGIN:VTIMEZONE
TZID:America/Chicago
BEGIN:DAYLIGHT
TZOFFSETFROM:-0600
TZOFFSETTO:-0500
TZNAME:CDT
DTSTART:20180311T080000
END:DAYLIGHT
BEGIN:STANDARD
TZOFFSETFROM:-0500
TZOFFSETTO:-0600
TZNAME:CST
DTSTART:20181104T070000
END:STANDARD
END:VTIMEZONE
BEGIN:VEVENT
DTSTART;TZID=America/Chicago:20181211T180000
DTEND;TZID=America/Chicago:20181211T200000
DTSTAMP:20260423T042838
CREATED:20180108T211513Z
LAST-MODIFIED:20190118T191231Z
UID:801-1544551200-1544558400@cumberlandcoil.gov
SUMMARY:Board Meeting 12-11-18
DESCRIPTION:Agenda \n  \nMinutes 
URL:https://cumberlandcoil.gov/event/board-meeting-12-11-18/
LOCATION:Cumberland County Annex Building\, 140 Courthouse Sq\, Toledo\, IL\, 62468\, United States
CATEGORIES:Board-Agendas-Meetings
END:VEVENT
BEGIN:VEVENT
DTSTART;TZID=America/Chicago:20181211T180000
DTEND;TZID=America/Chicago:20181211T200000
DTSTAMP:20260423T042838
CREATED:20180108T211513Z
LAST-MODIFIED:20180108T211513Z
UID:1961-1544551200-1544558400@cumberlandcoil.gov
SUMMARY:Board Meeting 12-11-18
DESCRIPTION:Agenda \n  \nMinutes 
URL:https://cumberlandcoil.gov/event/board-meeting-12-11-18-2/
LOCATION:Cumberland County Annex Building\, 140 Courthouse Sq\, Toledo\, IL\, 62468\, United States
CATEGORIES:Board-Agendas-Meetings
END:VEVENT
END:VCALENDAR