BEGIN:VCALENDAR
VERSION:2.0
PRODID:-//Cumberland County - ECPv5.1.4//NONSGML v1.0//EN
CALSCALE:GREGORIAN
METHOD:PUBLISH
X-WR-CALNAME:Cumberland County
X-ORIGINAL-URL:https://cumberlandcoil.gov
X-WR-CALDESC:Events for Cumberland County
BEGIN:VTIMEZONE
TZID:America/Chicago
BEGIN:DAYLIGHT
TZOFFSETFROM:-0600
TZOFFSETTO:-0500
TZNAME:CDT
DTSTART:20190310T080000
END:DAYLIGHT
BEGIN:STANDARD
TZOFFSETFROM:-0500
TZOFFSETTO:-0600
TZNAME:CST
DTSTART:20191103T070000
END:STANDARD
END:VTIMEZONE
BEGIN:VEVENT
DTSTART;TZID=America/Chicago:20190108T190000
DTEND;TZID=America/Chicago:20190108T210000
DTSTAMP:20260423T025735
CREATED:20190110T151442Z
LAST-MODIFIED:20190110T151442Z
UID:948-1546974000-1546981200@cumberlandcoil.gov
SUMMARY:2019-01-08 Board Meeting
DESCRIPTION:
URL:https://cumberlandcoil.gov/event/2019-01-08-board-meeting/
LOCATION:Cumberland County Annex Building\, 140 Courthouse Sq\, Toledo\, IL\, 62468\, United States
CATEGORIES:Board-Agendas-Meetings
END:VEVENT
BEGIN:VEVENT
DTSTART;TZID=America/Chicago:20190108T190000
DTEND;TZID=America/Chicago:20190108T210000
DTSTAMP:20260423T025735
CREATED:20190110T151442Z
LAST-MODIFIED:20190110T151442Z
UID:1988-1546974000-1546981200@cumberlandcoil.gov
SUMMARY:2019-01-08 Board Meeting
DESCRIPTION:
URL:https://cumberlandcoil.gov/event/2019-01-08-board-meeting-2/
LOCATION:Cumberland County Annex Building\, 140 Courthouse Sq\, Toledo\, IL\, 62468\, United States
CATEGORIES:Board-Agendas-Meetings
END:VEVENT
END:VCALENDAR