BEGIN:VCALENDAR
VERSION:2.0
PRODID:-//Cumberland County - ECPv5.1.4//NONSGML v1.0//EN
CALSCALE:GREGORIAN
METHOD:PUBLISH
X-WR-CALNAME:Cumberland County
X-ORIGINAL-URL:https://cumberlandcoil.gov
X-WR-CALDESC:Events for Cumberland County
BEGIN:VTIMEZONE
TZID:America/Chicago
BEGIN:DAYLIGHT
TZOFFSETFROM:-0600
TZOFFSETTO:-0500
TZNAME:CDT
DTSTART:20190310T080000
END:DAYLIGHT
BEGIN:STANDARD
TZOFFSETFROM:-0500
TZOFFSETTO:-0600
TZNAME:CST
DTSTART:20191103T070000
END:STANDARD
END:VTIMEZONE
BEGIN:VEVENT
DTSTART;TZID=America/Chicago:20190628T080000
DTEND;TZID=America/Chicago:20190628T170000
DTSTAMP:20260422T182822
CREATED:20190628T193434Z
LAST-MODIFIED:20190628T193446Z
UID:1024-1561708800-1561741200@cumberlandcoil.gov
SUMMARY:2019-07-09 Committee Meeting
DESCRIPTION:Agenda 
URL:https://cumberlandcoil.gov/event/2019-07-09-committee-meeting/
CATEGORIES:Board-Agendas-Meetings
END:VEVENT
BEGIN:VEVENT
DTSTART;TZID=America/Chicago:20190628T080000
DTEND;TZID=America/Chicago:20190628T170000
DTSTAMP:20260422T182822
CREATED:20190628T193434Z
LAST-MODIFIED:20190628T193434Z
UID:2000-1561708800-1561741200@cumberlandcoil.gov
SUMMARY:2019-07-09 Committee Meeting
DESCRIPTION:Agenda 
URL:https://cumberlandcoil.gov/event/2019-07-09-committee-meeting-2/
CATEGORIES:Board-Agendas-Meetings
END:VEVENT
END:VCALENDAR