BEGIN:VCALENDAR
VERSION:2.0
PRODID:-//Cumberland County - ECPv5.1.4//NONSGML v1.0//EN
CALSCALE:GREGORIAN
METHOD:PUBLISH
X-WR-CALNAME:Cumberland County
X-ORIGINAL-URL:https://cumberlandcoil.gov
X-WR-CALDESC:Events for Cumberland County
BEGIN:VTIMEZONE
TZID:America/Chicago
BEGIN:DAYLIGHT
TZOFFSETFROM:-0600
TZOFFSETTO:-0500
TZNAME:CDT
DTSTART:20200308T080000
END:DAYLIGHT
BEGIN:STANDARD
TZOFFSETFROM:-0500
TZOFFSETTO:-0600
TZNAME:CST
DTSTART:20201101T070000
END:STANDARD
END:VTIMEZONE
BEGIN:VEVENT
DTSTART;TZID=America/Chicago:20200414T190000
DTEND;TZID=America/Chicago:20200414T200000
DTSTAMP:20260422T024730
CREATED:20201020T180528Z
LAST-MODIFIED:20201020T180542Z
UID:1628-1586890800-1586894400@cumberlandcoil.gov
SUMMARY:2020-04-14 Board Meeting
DESCRIPTION:Agenda  \nMinutes 
URL:https://cumberlandcoil.gov/event/2020-04-14-board-meeting/
LOCATION:Cumberland County Annex Building\, 140 Courthouse Sq\, Toledo\, IL\, 62468\, United States
CATEGORIES:Board-Agendas-Meetings
END:VEVENT
BEGIN:VEVENT
DTSTART;TZID=America/Chicago:20200414T190000
DTEND;TZID=America/Chicago:20200414T200000
DTSTAMP:20260422T024731
CREATED:20201020T180528Z
LAST-MODIFIED:20201020T180528Z
UID:2024-1586890800-1586894400@cumberlandcoil.gov
SUMMARY:2020-04-14 Board Meeting
DESCRIPTION:Agenda  \nMinutes 
URL:https://cumberlandcoil.gov/event/2020-04-14-board-meeting-2/
LOCATION:Cumberland County Annex Building\, 140 Courthouse Sq\, Toledo\, IL\, 62468\, United States
CATEGORIES:Board-Agendas-Meetings
END:VEVENT
END:VCALENDAR