BEGIN:VCALENDAR
VERSION:2.0
PRODID:-//Cumberland County - ECPv5.1.4//NONSGML v1.0//EN
CALSCALE:GREGORIAN
METHOD:PUBLISH
X-WR-CALNAME:Cumberland County
X-ORIGINAL-URL:https://cumberlandcoil.gov
X-WR-CALDESC:Events for Cumberland County
BEGIN:VTIMEZONE
TZID:America/Chicago
BEGIN:DAYLIGHT
TZOFFSETFROM:-0600
TZOFFSETTO:-0500
TZNAME:CDT
DTSTART:20210314T080000
END:DAYLIGHT
BEGIN:STANDARD
TZOFFSETFROM:-0500
TZOFFSETTO:-0600
TZNAME:CST
DTSTART:20211107T070000
END:STANDARD
END:VTIMEZONE
BEGIN:VEVENT
DTSTART;TZID=America/Chicago:20210616T163000
DTEND;TZID=America/Chicago:20210616T173000
DTSTAMP:20260421T061016
CREATED:20210617T194408Z
LAST-MODIFIED:20210617T194515Z
UID:1806-1623861000-1623864600@cumberlandcoil.gov
SUMMARY:2021-06-16 ARPA Funds Committee Meeting
DESCRIPTION:Agenda 
URL:https://cumberlandcoil.gov/event/2021-06-16-arpa-funds-committee-meeting/
LOCATION:Cumberland County Annex Building\, 140 Courthouse Sq\, Toledo\, IL\, 62468\, United States
CATEGORIES:Board-Agendas-Meetings
END:VEVENT
BEGIN:VEVENT
DTSTART;TZID=America/Chicago:20210616T163000
DTEND;TZID=America/Chicago:20210616T173000
DTSTAMP:20260421T061016
CREATED:20210617T194408Z
LAST-MODIFIED:20210617T194408Z
UID:2057-1623861000-1623864600@cumberlandcoil.gov
SUMMARY:2021-06-16 ARPA Funds Committee Meeting
DESCRIPTION:Agenda 
URL:https://cumberlandcoil.gov/event/2021-06-16-arpa-funds-committee-meeting-2/
LOCATION:Cumberland County Annex Building\, 140 Courthouse Sq\, Toledo\, IL\, 62468\, United States
CATEGORIES:Board-Agendas-Meetings
END:VEVENT
END:VCALENDAR