BEGIN:VCALENDAR
VERSION:2.0
PRODID:-//Cumberland County - ECPv5.1.4//NONSGML v1.0//EN
CALSCALE:GREGORIAN
METHOD:PUBLISH
X-WR-CALNAME:Cumberland County
X-ORIGINAL-URL:https://cumberlandcoil.gov
X-WR-CALDESC:Events for Cumberland County
BEGIN:VTIMEZONE
TZID:America/Chicago
BEGIN:DAYLIGHT
TZOFFSETFROM:-0600
TZOFFSETTO:-0500
TZNAME:CDT
DTSTART:20210314T080000
END:DAYLIGHT
BEGIN:STANDARD
TZOFFSETFROM:-0500
TZOFFSETTO:-0600
TZNAME:CST
DTSTART:20211107T070000
END:STANDARD
END:VTIMEZONE
BEGIN:VEVENT
DTSTART;TZID=America/Chicago:20211109T190000
DTEND;TZID=America/Chicago:20211109T200000
DTSTAMP:20260420T224725
CREATED:20210108T195719Z
LAST-MODIFIED:20211108T164144Z
UID:1717-1636484400-1636488000@cumberlandcoil.gov
SUMMARY:2021-11-09 Board Meeting
DESCRIPTION:Agenda \n  \nMinutes 
URL:https://cumberlandcoil.gov/event/2021-11-09-board-meeting/
LOCATION:Cumberland County Annex Building\, 140 Courthouse Sq\, Toledo\, IL\, 62468\, United States
CATEGORIES:Board-Agendas-Meetings
END:VEVENT
BEGIN:VEVENT
DTSTART;TZID=America/Chicago:20211109T190000
DTEND;TZID=America/Chicago:20211109T200000
DTSTAMP:20260420T224725
CREATED:20210108T195719Z
LAST-MODIFIED:20210108T195719Z
UID:2052-1636484400-1636488000@cumberlandcoil.gov
SUMMARY:2021-11-09 Board Meeting
DESCRIPTION:Agenda \n  \nMinutes 
URL:https://cumberlandcoil.gov/event/2021-11-09-board-meeting-2/
LOCATION:Cumberland County Annex Building\, 140 Courthouse Sq\, Toledo\, IL\, 62468\, United States
CATEGORIES:Board-Agendas-Meetings
END:VEVENT
END:VCALENDAR